BEGIN:VCALENDAR
VERSION:2.0
PRODID:-//Tukios.com/
BEGIN:VEVENT
UID:22e648ef-0685-444b-a669-d71c34fbfa29@www.hatchersaddler.com
DTSTAMP:20260426T012456Z
DTSTART:20260428T193000Z
DTEND:20260428T203000Z
SUMMARY:Burial
DESCRIPTION:
URL:https://www.hatchersaddler.com/obituaries/jason-cross
LOCATION: 495 W Hiseville Main Street  Cave City KY 42127
GEO:37.1011209;-85.8212858
END:VEVENT
END:VCALENDAR