BEGIN:VCALENDAR
VERSION:2.0
PRODID:-//Tukios.com/
BEGIN:VEVENT
UID:04d45f65-69d6-4067-b610-f1cf03bce890@www.hatchersaddler.com
DTSTAMP:20260426T012518Z
DTSTART:20260428T130000Z
DTEND:20260428T180000Z
SUMMARY:Visitation
DESCRIPTION:
URL:https://www.hatchersaddler.com/obituaries/jason-cross
LOCATION: 801 N Race St  Glasgow KY 42141
GEO:37.0044895;-85.9084278
END:VEVENT
END:VCALENDAR