BEGIN:VCALENDAR
VERSION:2.0
PRODID:-//Tukios.com/
BEGIN:VEVENT
UID:71000256-540f-4015-8db4-82b1f1553c97@www.hatchersaddler.com
DTSTAMP:20260426T012948Z
DTSTART:20260427T130000Z
DTEND:20260428T010000Z
SUMMARY:Visitation
DESCRIPTION:
URL:https://www.hatchersaddler.com/obituaries/jason-cross
LOCATION: 801 N Race St  Glasgow KY 42141
GEO:37.0044895;-85.9084278
END:VEVENT
END:VCALENDAR