BEGIN:VCALENDAR
VERSION:2.0
PRODID:-//Tukios.com/
BEGIN:VEVENT
UID:619a92ec-2109-4ba9-9536-e976a059e061@www.hatchersaddler.com
DTSTAMP:20260426T012506Z
DTSTART:20260426T210000Z
DTEND:20260426T220000Z
SUMMARY:Visitation
DESCRIPTION:
URL:https://www.hatchersaddler.com/obituaries/jason-cross
LOCATION:Hatcher & Saddler Funeral Home 801 N Race St  Glasgow KY 42141
GEO:37.0044895;-85.9084278
END:VEVENT
END:VCALENDAR