BEGIN:VCALENDAR
VERSION:2.0
PRODID:-//Tukios.com/
BEGIN:VEVENT
UID:0ff22314-115d-44a4-9f23-5dd70d5edbc5@www.hatchersaddler.com
DTSTAMP:20260426T013144Z
DTSTART:20260428T180000Z
DTEND:20260428T190000Z
SUMMARY:Funeral Service
DESCRIPTION:
URL:https://www.hatchersaddler.com/obituaries/jason-cross
LOCATION:Hatcher & Saddler Funeral Home 801 N Race St  Glasgow KY 42141
GEO:37.0044895;-85.9084278
END:VEVENT
END:VCALENDAR